BEGIN:VCALENDAR
VERSION:2.0
PRODID:-//Association LISA - ECPv6.15.17//NONSGML v1.0//EN
CALSCALE:GREGORIAN
METHOD:PUBLISH
X-ORIGINAL-URL:https://www.associationlisa.fr
X-WR-CALDESC:Évènements pour Association LISA
REFRESH-INTERVAL;VALUE=DURATION:PT1H
X-Robots-Tag:noindex
X-PUBLISHED-TTL:PT1H
BEGIN:VTIMEZONE
TZID:Europe/Paris
BEGIN:DAYLIGHT
TZOFFSETFROM:+0100
TZOFFSETTO:+0200
TZNAME:CEST
DTSTART:20220327T010000
END:DAYLIGHT
BEGIN:STANDARD
TZOFFSETFROM:+0200
TZOFFSETTO:+0100
TZNAME:CET
DTSTART:20221030T010000
END:STANDARD
BEGIN:DAYLIGHT
TZOFFSETFROM:+0100
TZOFFSETTO:+0200
TZNAME:CEST
DTSTART:20230326T010000
END:DAYLIGHT
BEGIN:STANDARD
TZOFFSETFROM:+0200
TZOFFSETTO:+0100
TZNAME:CET
DTSTART:20231029T010000
END:STANDARD
BEGIN:DAYLIGHT
TZOFFSETFROM:+0100
TZOFFSETTO:+0200
TZNAME:CEST
DTSTART:20240331T010000
END:DAYLIGHT
BEGIN:STANDARD
TZOFFSETFROM:+0200
TZOFFSETTO:+0100
TZNAME:CET
DTSTART:20241027T010000
END:STANDARD
END:VTIMEZONE
BEGIN:VEVENT
DTSTART;VALUE=DATE:20230310
DTEND;VALUE=DATE:20230311
DTSTAMP:20260423T140434
CREATED:20230303T152329Z
LAST-MODIFIED:20230303T152329Z
UID:9431-1678406400-1678492799@www.associationlisa.fr
SUMMARY:Fermeture exceptionnelle des bureaux  le 10/03/2023
DESCRIPTION:Fermeture exceptionnelle des bureaux le vendredi 10 mars 2023. \n\n\n\nRéouverture le lundi 13 mars 2023.
URL:https://www.associationlisa.fr/event/fermeture-exceptionnelle-des-bureaux-le-10-03-2023/
LOCATION:Association LISA\, 4 rue du bas des Aulnaies\, Vivier-au-court\, 08440\, France
CATEGORIES:Fermeture exceptionnelle
END:VEVENT
END:VCALENDAR