BEGIN:VCALENDAR
VERSION:2.0
PRODID:-//Association LISA - ECPv6.15.17//NONSGML v1.0//EN
CALSCALE:GREGORIAN
METHOD:PUBLISH
X-WR-CALNAME:Association LISA
X-ORIGINAL-URL:https://www.associationlisa.fr
X-WR-CALDESC:Évènements pour Association LISA
REFRESH-INTERVAL;VALUE=DURATION:PT1H
X-Robots-Tag:noindex
X-PUBLISHED-TTL:PT1H
BEGIN:VTIMEZONE
TZID:Europe/Paris
BEGIN:DAYLIGHT
TZOFFSETFROM:+0100
TZOFFSETTO:+0200
TZNAME:CEST
DTSTART:20220327T010000
END:DAYLIGHT
BEGIN:STANDARD
TZOFFSETFROM:+0200
TZOFFSETTO:+0100
TZNAME:CET
DTSTART:20221030T010000
END:STANDARD
BEGIN:DAYLIGHT
TZOFFSETFROM:+0100
TZOFFSETTO:+0200
TZNAME:CEST
DTSTART:20230326T010000
END:DAYLIGHT
BEGIN:STANDARD
TZOFFSETFROM:+0200
TZOFFSETTO:+0100
TZNAME:CET
DTSTART:20231029T010000
END:STANDARD
BEGIN:DAYLIGHT
TZOFFSETFROM:+0100
TZOFFSETTO:+0200
TZNAME:CEST
DTSTART:20240331T010000
END:DAYLIGHT
BEGIN:STANDARD
TZOFFSETFROM:+0200
TZOFFSETTO:+0100
TZNAME:CET
DTSTART:20241027T010000
END:STANDARD
END:VTIMEZONE
BEGIN:VEVENT
DTSTART;TZID=Europe/Paris:20230416T143000
DTEND;TZID=Europe/Paris:20230416T170000
DTSTAMP:20260423T122718
CREATED:20230404T151356Z
LAST-MODIFIED:20230404T160458Z
UID:9473-1681655400-1681664400@www.associationlisa.fr
SUMMARY:Randochiens
DESCRIPTION:CHANGEMENT DU LIEU DE RENDEZ-VOUS \n\n\n\nRendez vous le dimanche 16 avril 2023 pour une Randochiens ! \n\n\n\n Rendez-vous à 14h30\n\n\n Au parking de la fontaine Saint Roger\, situé à 1km après la sortie d’ELAN (08)\n\n\n Pour une randonnée d’environ 5 km\n\n\n Participation : minimum 4 euros\n\n\n Chaussures de marche recommandées\, poussettes déconseillées\, chemins dans les bois…\n\n\n Goûter offert !\n\n\n\nPour toutes demandes d’informations\, n’hésitez pas à nous contacter au 03 24 41 74 51.
URL:https://www.associationlisa.fr/event/randochiens-3/
ATTACH;FMTTYPE=image/jpeg:https://www.associationlisa.fr/wp-content/uploads/2023/03/Affiche_rando-chiens-160423-Elan.jpg
END:VEVENT
END:VCALENDAR