BEGIN:VCALENDAR
VERSION:2.0
PRODID:-//Association LISA - ECPv6.15.17//NONSGML v1.0//EN
CALSCALE:GREGORIAN
METHOD:PUBLISH
X-WR-CALNAME:Association LISA
X-ORIGINAL-URL:https://www.associationlisa.fr
X-WR-CALDESC:Évènements pour Association LISA
REFRESH-INTERVAL;VALUE=DURATION:PT1H
X-Robots-Tag:noindex
X-PUBLISHED-TTL:PT1H
BEGIN:VTIMEZONE
TZID:Europe/Paris
BEGIN:DAYLIGHT
TZOFFSETFROM:+0100
TZOFFSETTO:+0200
TZNAME:CEST
DTSTART:20220327T010000
END:DAYLIGHT
BEGIN:STANDARD
TZOFFSETFROM:+0200
TZOFFSETTO:+0100
TZNAME:CET
DTSTART:20221030T010000
END:STANDARD
BEGIN:DAYLIGHT
TZOFFSETFROM:+0100
TZOFFSETTO:+0200
TZNAME:CEST
DTSTART:20230326T010000
END:DAYLIGHT
BEGIN:STANDARD
TZOFFSETFROM:+0200
TZOFFSETTO:+0100
TZNAME:CET
DTSTART:20231029T010000
END:STANDARD
BEGIN:DAYLIGHT
TZOFFSETFROM:+0100
TZOFFSETTO:+0200
TZNAME:CEST
DTSTART:20240331T010000
END:DAYLIGHT
BEGIN:STANDARD
TZOFFSETFROM:+0200
TZOFFSETTO:+0100
TZNAME:CET
DTSTART:20241027T010000
END:STANDARD
END:VTIMEZONE
BEGIN:VEVENT
DTSTART;TZID=Europe/Paris:20230603T090000
DTEND;TZID=Europe/Paris:20230603T130000
DTSTAMP:20260423T100045
CREATED:20230421T121307Z
LAST-MODIFIED:20230421T121307Z
UID:9628-1685782800-1685797200@www.associationlisa.fr
SUMMARY:Journée de formation chiens de catégorie
DESCRIPTION:JOURNÉE DE FORMATION : ATTESTATION D’APTITUDE DES PROPRIÉTAIRES DE CHIENS DE 1ère et 2ème CATÉGORIES\n\n\nLa nouvelle journée de formation a lieu le 3 juin 2023 à partir de 9h au sein de nos prochains locaux de l’association Lisa au Zac Du\, Le Boitron\, 08440 Vivier-au-Court.\n\n\nTarif individuel : 110 euros\nTarif duo/couple* : 150 euros\n*uniquement les personnes vivant dans le même foyer\nAdoptants de chiens CAT1 ou 2 via l’association LISA : GRATUIT !\n\n\nLes réservations se font UNIQUEMENT auprès de Jean-Marie\n06 43 73 60 70\n\n\nQuelles races sont concernées ? \n\n\nCatégorie 1 :\nChiens assimilables à une race de par leurs caractéristiques morphologiques et non-inscrits dans un livre généalogique reconnu par le ministère de l’Agriculture et de l’Alimentation.\nchiens de type American Staffordshire terrier (non LOF)\, également appelés « pit-bulls » ;\nchiens de type Mastiff (non LOF)\, également appelés « boerbulls » ;\nchiens de type Tosa (non LOF).\n\n\nCatégorie 2 :\nChiens inscrites dans un livre généalogique reconnu par le ministère de l’Agriculture et de l’Alimentation) et 1 type :\nchiens de race American Staffordshire terrier (LOF) ;\nchiens de race Rottweiller (LOF) ;\nchiens de type Rottweiller (non LOF) ;\nchiens de race Tosa (LOF)\nLOF : Livre des Origines Français
URL:https://www.associationlisa.fr/event/journee-de-formation-chiens-de-categorie-2/
LOCATION:La Toutounière\, Zac du Boitron\, Vivier-au-court\, 08440\, France
CATEGORIES:Formation Permis de détention de chien
ATTACH;FMTTYPE=image/jpeg:https://www.associationlisa.fr/wp-content/uploads/2023/04/Journee-de-formation-chiens-de-categories-site-3.jpg
END:VEVENT
END:VCALENDAR