BEGIN:VCALENDAR
VERSION:2.0
PRODID:-//Association LISA - ECPv6.15.17//NONSGML v1.0//EN
CALSCALE:GREGORIAN
METHOD:PUBLISH
X-WR-CALNAME:Association LISA
X-ORIGINAL-URL:https://www.associationlisa.fr
X-WR-CALDESC:Évènements pour Association LISA
REFRESH-INTERVAL;VALUE=DURATION:PT1H
X-Robots-Tag:noindex
X-PUBLISHED-TTL:PT1H
BEGIN:VTIMEZONE
TZID:Europe/Paris
BEGIN:DAYLIGHT
TZOFFSETFROM:+0100
TZOFFSETTO:+0200
TZNAME:CEST
DTSTART:20170326T010000
END:DAYLIGHT
BEGIN:STANDARD
TZOFFSETFROM:+0200
TZOFFSETTO:+0100
TZNAME:CET
DTSTART:20171029T010000
END:STANDARD
BEGIN:DAYLIGHT
TZOFFSETFROM:+0100
TZOFFSETTO:+0200
TZNAME:CEST
DTSTART:20180325T010000
END:DAYLIGHT
BEGIN:STANDARD
TZOFFSETFROM:+0200
TZOFFSETTO:+0100
TZNAME:CET
DTSTART:20181028T010000
END:STANDARD
BEGIN:DAYLIGHT
TZOFFSETFROM:+0100
TZOFFSETTO:+0200
TZNAME:CEST
DTSTART:20190331T010000
END:DAYLIGHT
BEGIN:STANDARD
TZOFFSETFROM:+0200
TZOFFSETTO:+0100
TZNAME:CET
DTSTART:20191027T010000
END:STANDARD
BEGIN:DAYLIGHT
TZOFFSETFROM:+0100
TZOFFSETTO:+0200
TZNAME:CEST
DTSTART:20200329T010000
END:DAYLIGHT
BEGIN:STANDARD
TZOFFSETFROM:+0200
TZOFFSETTO:+0100
TZNAME:CET
DTSTART:20201025T010000
END:STANDARD
END:VTIMEZONE
BEGIN:VEVENT
DTSTART;TZID=Europe/Paris:20190223T090000
DTEND;TZID=Europe/Paris:20190223T190000
DTSTAMP:20260421T121200
CREATED:20190223T155204Z
LAST-MODIFIED:20190223T155204Z
UID:14157-1550912400-1550948400@www.associationlisa.fr
SUMMARY:Opération caddie
DESCRIPTION:Une opération caddie aura lieu ce samedi 23 février de 9h à 19h\, au CORA de Villers-Semeuse. \nNourriture pour chats et chiens\, litière\, couvertures\, jouets… \nMerci pour eux ! \nNous vous attendons nombreux !
URL:https://www.associationlisa.fr/event/operation-caddie-2-2/
LOCATION:Cora Villers-Semeuse\, Route départementale 764\, Villers-Semeuse\, Ardennes\, 08000\, France
CATEGORIES:Opération caddie
ATTACH;FMTTYPE=image/jpeg:https://www.associationlisa.fr/wp-content/uploads/2021/10/Operation-caddie-23fev2019_viseul-event.jpg
ORGANIZER;CN="Association LISA":MAILTO:contact@associationlisa.fr
END:VEVENT
BEGIN:VEVENT
DTSTART;TZID=Europe/Paris:20190223T090000
DTEND;TZID=Europe/Paris:20190223T190000
DTSTAMP:20260421T121200
CREATED:20190223T155204Z
LAST-MODIFIED:20211029T145701Z
UID:5921-1550912400-1550948400@www.associationlisa.fr
SUMMARY:Opération caddie
DESCRIPTION:Une opération caddie aura lieu ce samedi 23 février de 9h à 19h\, au CORA de Villers-Semeuse. \nNourriture pour chats et chiens\, litière\, couvertures\, jouets… \nMerci pour eux ! \nNous vous attendons nombreux !
URL:https://www.associationlisa.fr/event/operation-caddie-2/
LOCATION:Cora Villers-Semeuse\, Route départementale 764\, Villers-Semeuse\, Ardennes\, 08000\, France
CATEGORIES:Opération caddie
ATTACH;FMTTYPE=image/jpeg:https://www.associationlisa.fr/wp-content/uploads/2021/10/Operation-caddie-23fev2019_viseul-event.jpg
ORGANIZER;CN="Association LISA":MAILTO:contact@associationlisa.fr
END:VEVENT
BEGIN:VEVENT
DTSTART;TZID=Europe/Paris:20190223T090000
DTEND;TZID=Europe/Paris:20190223T190000
DTSTAMP:20260421T121200
CREATED:20190223T155204Z
LAST-MODIFIED:20190223T155204Z
UID:14194-1550912400-1550948400@www.associationlisa.fr
SUMMARY:Opération caddie
DESCRIPTION:Une opération caddie aura lieu ce samedi 23 février de 9h à 19h\, au CORA de Villers-Semeuse. \nNourriture pour chats et chiens\, litière\, couvertures\, jouets… \nMerci pour eux ! \nNous vous attendons nombreux !
URL:https://www.associationlisa.fr/event/operation-caddie-2-3/
LOCATION:Cora Villers-Semeuse\, Route départementale 764\, Villers-Semeuse\, Ardennes\, 08000\, France
CATEGORIES:Opération caddie
ATTACH;FMTTYPE=image/jpeg:https://www.associationlisa.fr/wp-content/uploads/2021/10/Operation-caddie-23fev2019_viseul-event.jpg
ORGANIZER;CN="Association LISA":MAILTO:contact@associationlisa.fr
END:VEVENT
BEGIN:VEVENT
DTSTART;TZID=Europe/Paris:20181125T083000
DTEND;TZID=Europe/Paris:20181125T173000
DTSTAMP:20260421T121200
CREATED:20181125T083433Z
LAST-MODIFIED:20181125T083433Z
UID:14158-1543134600-1543167000@www.associationlisa.fr
SUMMARY:Noël des animaux
DESCRIPTION:Le 25 Novembre\, nous organisons une nouvelles journée adoption à la Salle Nevers de Charleville-Mézières de 9h30 à 17h30. \nDes chats et des chiens en attente d’adoptant seront présents\, nous vous proposerons une petite collation (gâteaux\, crêpes\, croque-monsieur\, tartes\, café\, sodas\, etc…) ainsi que la vente de parapluies\, porte clef\, stylo\, et divers objets avec le logos de l’association LISA. \nL’entrée est gratuite.
URL:https://www.associationlisa.fr/event/noel-des-animaux-2018-2/
LOCATION:Salle Nevers\, 22 Rue de Flandre\, Charleville-Mézières\, Ardennes\, 08000\, France
CATEGORIES:Noêl des animaux
ATTACH;FMTTYPE=image/jpeg:https://www.associationlisa.fr/wp-content/uploads/2021/11/Noel-des-animaux-2018.jpg
ORGANIZER;CN="Association LISA":MAILTO:contact@associationlisa.fr
END:VEVENT
BEGIN:VEVENT
DTSTART;TZID=Europe/Paris:20181125T083000
DTEND;TZID=Europe/Paris:20181125T173000
DTSTAMP:20260421T121200
CREATED:20181125T083433Z
LAST-MODIFIED:20211103T084347Z
UID:5936-1543134600-1543167000@www.associationlisa.fr
SUMMARY:Noël des animaux
DESCRIPTION:Le 25 Novembre\, nous organisons une nouvelles journée adoption à la Salle Nevers de Charleville-Mézières de 9h30 à 17h30. \nDes chats et des chiens en attente d’adoptant seront présents\, nous vous proposerons une petite collation (gâteaux\, crêpes\, croque-monsieur\, tartes\, café\, sodas\, etc…) ainsi que la vente de parapluies\, porte clef\, stylo\, et divers objets avec le logos de l’association LISA. \nL’entrée est gratuite.
URL:https://www.associationlisa.fr/event/noel-des-animaux-2018/
LOCATION:Salle Nevers\, 22 Rue de Flandre\, Charleville-Mézières\, Ardennes\, 08000\, France
CATEGORIES:Noêl des animaux
ATTACH;FMTTYPE=image/jpeg:https://www.associationlisa.fr/wp-content/uploads/2021/11/Noel-des-animaux-2018.jpg
ORGANIZER;CN="Association LISA":MAILTO:contact@associationlisa.fr
END:VEVENT
BEGIN:VEVENT
DTSTART;TZID=Europe/Paris:20181125T083000
DTEND;TZID=Europe/Paris:20181125T173000
DTSTAMP:20260421T121200
CREATED:20181125T083433Z
LAST-MODIFIED:20181125T083433Z
UID:14195-1543134600-1543167000@www.associationlisa.fr
SUMMARY:Noël des animaux
DESCRIPTION:Le 25 Novembre\, nous organisons une nouvelles journée adoption à la Salle Nevers de Charleville-Mézières de 9h30 à 17h30. \nDes chats et des chiens en attente d’adoptant seront présents\, nous vous proposerons une petite collation (gâteaux\, crêpes\, croque-monsieur\, tartes\, café\, sodas\, etc…) ainsi que la vente de parapluies\, porte clef\, stylo\, et divers objets avec le logos de l’association LISA. \nL’entrée est gratuite.
URL:https://www.associationlisa.fr/event/noel-des-animaux-2018-3/
LOCATION:Salle Nevers\, 22 Rue de Flandre\, Charleville-Mézières\, Ardennes\, 08000\, France
CATEGORIES:Noêl des animaux
ATTACH;FMTTYPE=image/jpeg:https://www.associationlisa.fr/wp-content/uploads/2021/11/Noel-des-animaux-2018.jpg
ORGANIZER;CN="Association LISA":MAILTO:contact@associationlisa.fr
END:VEVENT
BEGIN:VEVENT
DTSTART;TZID=Europe/Paris:20180916T103000
DTEND;TZID=Europe/Paris:20180916T183000
DTSTAMP:20260421T121200
CREATED:20180916T074818Z
LAST-MODIFIED:20180916T074818Z
UID:14196-1537093800-1537122600@www.associationlisa.fr
SUMMARY:Journée Adoption
DESCRIPTION:Une journée adoption est organisées à la Salle Polyvalente Nevers de Charleville Mézières de 9h30 à 17h30. \nDes chiens et des chats de l’association seront présents dans l’espoir de rencontrer leurs adoptants ! \nUne restauration composée de crêpes\, gâteaux\, croque-monsieurs\, café et boissons sera proposée au visiteur. L’argent récolté sera directement reversé pour les animaux. \nVenez nous faire un petit coucou !
URL:https://www.associationlisa.fr/event/journee-adoption-septembre-2018-3/
LOCATION:Salle Nevers\, 22 Rue de Flandre\, Charleville-Mézières\, Ardennes\, 08000\, France
CATEGORIES:Journée adoption
ATTACH;FMTTYPE=image/jpeg:https://www.associationlisa.fr/wp-content/uploads/2021/11/Journee-Adoption-septembre-2018.jpg
ORGANIZER;CN="Association LISA":MAILTO:contact@associationlisa.fr
END:VEVENT
BEGIN:VEVENT
DTSTART;TZID=Europe/Paris:20180916T103000
DTEND;TZID=Europe/Paris:20180916T183000
DTSTAMP:20260421T121200
CREATED:20180916T074818Z
LAST-MODIFIED:20180916T074818Z
UID:14159-1537093800-1537122600@www.associationlisa.fr
SUMMARY:Journée Adoption
DESCRIPTION:Une journée adoption est organisées à la Salle Polyvalente Nevers de Charleville Mézières de 9h30 à 17h30. \nDes chiens et des chats de l’association seront présents dans l’espoir de rencontrer leurs adoptants ! \nUne restauration composée de crêpes\, gâteaux\, croque-monsieurs\, café et boissons sera proposée au visiteur. L’argent récolté sera directement reversé pour les animaux. \nVenez nous faire un petit coucou !
URL:https://www.associationlisa.fr/event/journee-adoption-septembre-2018-2/
LOCATION:Salle Nevers\, 22 Rue de Flandre\, Charleville-Mézières\, Ardennes\, 08000\, France
CATEGORIES:Journée adoption
ATTACH;FMTTYPE=image/jpeg:https://www.associationlisa.fr/wp-content/uploads/2021/11/Journee-Adoption-septembre-2018.jpg
ORGANIZER;CN="Association LISA":MAILTO:contact@associationlisa.fr
END:VEVENT
BEGIN:VEVENT
DTSTART;TZID=Europe/Paris:20180916T103000
DTEND;TZID=Europe/Paris:20180916T183000
DTSTAMP:20260421T121200
CREATED:20180916T074818Z
LAST-MODIFIED:20211103T085522Z
UID:5940-1537093800-1537122600@www.associationlisa.fr
SUMMARY:Journée Adoption
DESCRIPTION:Une journée adoption est organisées à la Salle Polyvalente Nevers de Charleville Mézières de 9h30 à 17h30. \nDes chiens et des chats de l’association seront présents dans l’espoir de rencontrer leurs adoptants ! \nUne restauration composée de crêpes\, gâteaux\, croque-monsieurs\, café et boissons sera proposée au visiteur. L’argent récolté sera directement reversé pour les animaux. \nVenez nous faire un petit coucou !
URL:https://www.associationlisa.fr/event/journee-adoption-septembre-2018/
LOCATION:Salle Nevers\, 22 Rue de Flandre\, Charleville-Mézières\, Ardennes\, 08000\, France
CATEGORIES:Journée adoption
ATTACH;FMTTYPE=image/jpeg:https://www.associationlisa.fr/wp-content/uploads/2021/11/Journee-Adoption-septembre-2018.jpg
ORGANIZER;CN="Association LISA":MAILTO:contact@associationlisa.fr
END:VEVENT
BEGIN:VEVENT
DTSTART;TZID=Europe/Paris:20180804T103000
DTEND;TZID=Europe/Paris:20180804T183000
DTSTAMP:20260421T121200
CREATED:20180804T075709Z
LAST-MODIFIED:20180804T075709Z
UID:14197-1533378600-1533407400@www.associationlisa.fr
SUMMARY:Journée Adoption Spéciale Chats et Chatons
DESCRIPTION:L’association LISA organise une journée adoption spéciale CHATS et CHATONS le Samedi 4 août au sein de ses locaux au 14 rue de l’abattoir à Charleville-Mézières de 9h30 à 17h30.\nAdopter un chat\, c’est sauver deux vie. Celle de l’heureux adopté et celle du chat à qui il cède la place ! \nomme vous le savez\, l’été rime aussi avec refuge surchargé…\nLe Samedi 4 août\, des chats et chatons seront à adopter. Vous pourrez aussi réserver les petits orphelins qui n’ont pas encore atteint l’âge de deux mois.  \n*Un animal représente un coût\, avant l’adoption\, posez-vous les bonnes questions https://www.associationlisa.ovh/comment-adopter/
URL:https://www.associationlisa.fr/event/journee-adoption-speciale-chats-et-chatons-3/
LOCATION:Association LISA\, 4 rue du bas des Aulnaies\, Vivier-au-court\, 08440\, France
CATEGORIES:Journée adoption
ATTACH;FMTTYPE=image/jpeg:https://www.associationlisa.fr/wp-content/uploads/2021/11/Journee-Adoption-Speciale-Chats-et-Chatons.jpg
ORGANIZER;CN="Association LISA":MAILTO:contact@associationlisa.fr
END:VEVENT
BEGIN:VEVENT
DTSTART;TZID=Europe/Paris:20180804T103000
DTEND;TZID=Europe/Paris:20180804T183000
DTSTAMP:20260421T121200
CREATED:20180804T075709Z
LAST-MODIFIED:20180804T075709Z
UID:14160-1533378600-1533407400@www.associationlisa.fr
SUMMARY:Journée Adoption Spéciale Chats et Chatons
DESCRIPTION:L’association LISA organise une journée adoption spéciale CHATS et CHATONS le Samedi 4 août au sein de ses locaux au 14 rue de l’abattoir à Charleville-Mézières de 9h30 à 17h30.\nAdopter un chat\, c’est sauver deux vie. Celle de l’heureux adopté et celle du chat à qui il cède la place ! \nomme vous le savez\, l’été rime aussi avec refuge surchargé…\nLe Samedi 4 août\, des chats et chatons seront à adopter. Vous pourrez aussi réserver les petits orphelins qui n’ont pas encore atteint l’âge de deux mois.  \n*Un animal représente un coût\, avant l’adoption\, posez-vous les bonnes questions https://www.associationlisa.ovh/comment-adopter/
URL:https://www.associationlisa.fr/event/journee-adoption-speciale-chats-et-chatons-2/
LOCATION:Association LISA\, 4 rue du bas des Aulnaies\, Vivier-au-court\, 08440\, France
CATEGORIES:Journée adoption
ATTACH;FMTTYPE=image/jpeg:https://www.associationlisa.fr/wp-content/uploads/2021/11/Journee-Adoption-Speciale-Chats-et-Chatons.jpg
ORGANIZER;CN="Association LISA":MAILTO:contact@associationlisa.fr
END:VEVENT
BEGIN:VEVENT
DTSTART;TZID=Europe/Paris:20180804T103000
DTEND;TZID=Europe/Paris:20180804T183000
DTSTAMP:20260421T121200
CREATED:20180804T075709Z
LAST-MODIFIED:20211103T091002Z
UID:5944-1533378600-1533407400@www.associationlisa.fr
SUMMARY:Journée Adoption Spéciale Chats et Chatons
DESCRIPTION:L’association LISA organise une journée adoption spéciale CHATS et CHATONS le Samedi 4 août au sein de ses locaux au 14 rue de l’abattoir à Charleville-Mézières de 9h30 à 17h30.\nAdopter un chat\, c’est sauver deux vie. Celle de l’heureux adopté et celle du chat à qui il cède la place ! \nomme vous le savez\, l’été rime aussi avec refuge surchargé…\nLe Samedi 4 août\, des chats et chatons seront à adopter. Vous pourrez aussi réserver les petits orphelins qui n’ont pas encore atteint l’âge de deux mois.  \n*Un animal représente un coût\, avant l’adoption\, posez-vous les bonnes questions https://www.associationlisa.fr/comment-adopter/
URL:https://www.associationlisa.fr/event/journee-adoption-speciale-chats-et-chatons/
LOCATION:Association LISA\, 4 rue du bas des Aulnaies\, Vivier-au-court\, 08440\, France
CATEGORIES:Journée adoption
ATTACH;FMTTYPE=image/jpeg:https://www.associationlisa.fr/wp-content/uploads/2021/11/Journee-Adoption-Speciale-Chats-et-Chatons.jpg
ORGANIZER;CN="Association LISA":MAILTO:contact@associationlisa.fr
END:VEVENT
BEGIN:VEVENT
DTSTART;TZID=Europe/Paris:20180412T090000
DTEND;TZID=Europe/Paris:20180412T180000
DTSTAMP:20260421T121200
CREATED:20180412T103223Z
LAST-MODIFIED:20180412T103223Z
UID:14200-1523523600-1523556000@www.associationlisa.fr
SUMMARY:Rencontre Bénévoles
DESCRIPTION:Afin de nous rencontrer\, partager et avancer ensemble\, nous organisons une Rencontre…
URL:https://www.associationlisa.fr/event/rencontre-benevoles-3/
LOCATION:Association LISA\, 4 rue du bas des Aulnaies\, Vivier-au-court\, 08440\, France
CATEGORIES:Journée découverte
ATTACH;FMTTYPE=image/jpeg:https://www.associationlisa.fr/wp-content/uploads/2021/11/integration-3527263_19201.jpg
ORGANIZER;CN="Association LISA":MAILTO:contact@associationlisa.fr
END:VEVENT
BEGIN:VEVENT
DTSTART;TZID=Europe/Paris:20180412T090000
DTEND;TZID=Europe/Paris:20180412T180000
DTSTAMP:20260421T121200
CREATED:20180412T103223Z
LAST-MODIFIED:20180412T103223Z
UID:14163-1523523600-1523556000@www.associationlisa.fr
SUMMARY:Rencontre Bénévoles
DESCRIPTION:Afin de nous rencontrer\, partager et avancer ensemble\, nous organisons une Rencontre…
URL:https://www.associationlisa.fr/event/rencontre-benevoles-2/
LOCATION:Association LISA\, 4 rue du bas des Aulnaies\, Vivier-au-court\, 08440\, France
CATEGORIES:Journée découverte
ATTACH;FMTTYPE=image/jpeg:https://www.associationlisa.fr/wp-content/uploads/2021/11/integration-3527263_19201.jpg
ORGANIZER;CN="Association LISA":MAILTO:contact@associationlisa.fr
END:VEVENT
BEGIN:VEVENT
DTSTART;TZID=Europe/Paris:20180412T090000
DTEND;TZID=Europe/Paris:20180412T180000
DTSTAMP:20260421T121200
CREATED:20180412T103223Z
LAST-MODIFIED:20211103T114145Z
UID:6007-1523523600-1523556000@www.associationlisa.fr
SUMMARY:Rencontre Bénévoles
DESCRIPTION:Afin de nous rencontrer\, partager et avancer ensemble\, nous organisons une Rencontre…
URL:https://www.associationlisa.fr/event/rencontre-benevoles/
LOCATION:Association LISA\, 4 rue du bas des Aulnaies\, Vivier-au-court\, 08440\, France
CATEGORIES:Journée découverte
ATTACH;FMTTYPE=image/jpeg:https://www.associationlisa.fr/wp-content/uploads/2021/11/integration-3527263_19201.jpg
ORGANIZER;CN="Association LISA":MAILTO:contact@associationlisa.fr
END:VEVENT
BEGIN:VEVENT
DTSTART;TZID=Europe/Paris:20180315T080000
DTEND;TZID=Europe/Paris:20180315T170000
DTSTAMP:20260421T121200
CREATED:20180315T114425Z
LAST-MODIFIED:20180315T114425Z
UID:14201-1521100800-1521133200@www.associationlisa.fr
SUMMARY:Les 25 ans de la LISA
DESCRIPTION:Venez fêter les 25 ans de l’Association LISA “Ligue dans l’intérêt de la société & l’animal” à Charleville-Mézières.
URL:https://www.associationlisa.fr/event/les-25-ans-de-la-lisa-3/
LOCATION:Association LISA\, 4 rue du bas des Aulnaies\, Vivier-au-court\, 08440\, France
CATEGORIES:Journée découverte
ATTACH;FMTTYPE=image/jpeg:https://www.associationlisa.fr/wp-content/uploads/2021/11/Les-25-ans-de-la-LISA.jpg
ORGANIZER;CN="Association LISA":MAILTO:contact@associationlisa.fr
END:VEVENT
BEGIN:VEVENT
DTSTART;TZID=Europe/Paris:20180315T080000
DTEND;TZID=Europe/Paris:20180315T170000
DTSTAMP:20260421T121200
CREATED:20180315T114425Z
LAST-MODIFIED:20211103T115201Z
UID:6011-1521100800-1521133200@www.associationlisa.fr
SUMMARY:Les 25 ans de la LISA
DESCRIPTION:Venez fêter les 25 ans de l’Association LISA “Ligue dans l’intérêt de la société & l’animal” à Charleville-Mézières.
URL:https://www.associationlisa.fr/event/les-25-ans-de-la-lisa/
LOCATION:Association LISA\, 4 rue du bas des Aulnaies\, Vivier-au-court\, 08440\, France
CATEGORIES:Journée découverte
ATTACH;FMTTYPE=image/jpeg:https://www.associationlisa.fr/wp-content/uploads/2021/11/Les-25-ans-de-la-LISA.jpg
ORGANIZER;CN="Association LISA":MAILTO:contact@associationlisa.fr
END:VEVENT
BEGIN:VEVENT
DTSTART;TZID=Europe/Paris:20180315T080000
DTEND;TZID=Europe/Paris:20180315T170000
DTSTAMP:20260421T121200
CREATED:20180315T114425Z
LAST-MODIFIED:20180315T114425Z
UID:14164-1521100800-1521133200@www.associationlisa.fr
SUMMARY:Les 25 ans de la LISA
DESCRIPTION:Venez fêter les 25 ans de l’Association LISA “Ligue dans l’intérêt de la société & l’animal” à Charleville-Mézières.
URL:https://www.associationlisa.fr/event/les-25-ans-de-la-lisa-2/
LOCATION:Association LISA\, 4 rue du bas des Aulnaies\, Vivier-au-court\, 08440\, France
CATEGORIES:Journée découverte
ATTACH;FMTTYPE=image/jpeg:https://www.associationlisa.fr/wp-content/uploads/2021/11/Les-25-ans-de-la-LISA.jpg
ORGANIZER;CN="Association LISA":MAILTO:contact@associationlisa.fr
END:VEVENT
END:VCALENDAR