BEGIN:VCALENDAR
VERSION:2.0
PRODID:-//Association LISA - ECPv6.15.17//NONSGML v1.0//EN
CALSCALE:GREGORIAN
METHOD:PUBLISH
X-WR-CALNAME:Association LISA
X-ORIGINAL-URL:https://www.associationlisa.fr
X-WR-CALDESC:Évènements pour Association LISA
REFRESH-INTERVAL;VALUE=DURATION:PT1H
X-Robots-Tag:noindex
X-PUBLISHED-TTL:PT1H
BEGIN:VTIMEZONE
TZID:Europe/Paris
BEGIN:DAYLIGHT
TZOFFSETFROM:+0100
TZOFFSETTO:+0200
TZNAME:CEST
DTSTART:20190331T010000
END:DAYLIGHT
BEGIN:STANDARD
TZOFFSETFROM:+0200
TZOFFSETTO:+0100
TZNAME:CET
DTSTART:20191027T010000
END:STANDARD
BEGIN:DAYLIGHT
TZOFFSETFROM:+0100
TZOFFSETTO:+0200
TZNAME:CEST
DTSTART:20200329T010000
END:DAYLIGHT
BEGIN:STANDARD
TZOFFSETFROM:+0200
TZOFFSETTO:+0100
TZNAME:CET
DTSTART:20201025T010000
END:STANDARD
BEGIN:DAYLIGHT
TZOFFSETFROM:+0100
TZOFFSETTO:+0200
TZNAME:CEST
DTSTART:20210328T010000
END:DAYLIGHT
BEGIN:STANDARD
TZOFFSETFROM:+0200
TZOFFSETTO:+0100
TZNAME:CET
DTSTART:20211031T010000
END:STANDARD
END:VTIMEZONE
BEGIN:VEVENT
DTSTART;TZID=Europe/Paris:20200315T140000
DTEND;TZID=Europe/Paris:20200315T170000
DTSTAMP:20260426T004042
CREATED:20200315T113521Z
LAST-MODIFIED:20211021T105428Z
UID:5628-1584280800-1584291600@www.associationlisa.fr
SUMMARY:Randochiens
DESCRIPTION:Rendez-vous à 14h30 Château da la RUME (08)\nSur la route d’Issancourt et Rumel\, en venant de Ville-sur-Lumes \nPour une randonnée d’environ 7 km \nParticipation : minimum 3 euros \nChaussures de marche recommandées\, poussettes déconseillées\, chemins dans les bois… \nVenez vous balader avec votre chien\, en famille ou entre amis ! \nLe goûter est offert ! \nPlus d’infos au 03.24.41.74.51 \nTélécharger l’affiche\n(N’hésitez pas à la diffuser autour de vous !)
URL:https://www.associationlisa.fr/event/randochiens/
LOCATION:Château da la RUME\, Château da la RUME\, Sur la route d’Issancourt et Rumel\, en venant de Ville-sur-Lumes\, Ardennes\, 08000\, France
CATEGORIES:Randochiens
ATTACH;FMTTYPE=image/jpeg:https://www.associationlisa.fr/wp-content/uploads/2021/10/Site-internet-Articles-2020-15-mars-Randochiens.jpg
END:VEVENT
BEGIN:VEVENT
DTSTART;TZID=Europe/Paris:20200315T140000
DTEND;TZID=Europe/Paris:20200315T170000
DTSTAMP:20260426T004042
CREATED:20200315T113521Z
LAST-MODIFIED:20200315T113521Z
UID:14170-1584280800-1584291600@www.associationlisa.fr
SUMMARY:Randochiens
DESCRIPTION:Rendez-vous à 14h30 Château da la RUME (08)\nSur la route d’Issancourt et Rumel\, en venant de Ville-sur-Lumes \nPour une randonnée d’environ 7 km \nParticipation : minimum 3 euros \nChaussures de marche recommandées\, poussettes déconseillées\, chemins dans les bois… \nVenez vous balader avec votre chien\, en famille ou entre amis ! \nLe goûter est offert ! \nPlus d’infos au 03.24.41.74.51 \nTélécharger l’affiche\n(N’hésitez pas à la diffuser autour de vous !)
URL:https://www.associationlisa.fr/event/randochiens-4/
LOCATION:Château da la RUME\, Château da la RUME\, Sur la route d’Issancourt et Rumel\, en venant de Ville-sur-Lumes\, Ardennes\, 08000\, France
CATEGORIES:Randochiens
ATTACH;FMTTYPE=image/jpeg:https://www.associationlisa.fr/wp-content/uploads/2021/10/Site-internet-Articles-2020-15-mars-Randochiens.jpg
END:VEVENT
BEGIN:VEVENT
DTSTART;TZID=Europe/Paris:20200315T140000
DTEND;TZID=Europe/Paris:20200315T170000
DTSTAMP:20260426T004042
CREATED:20200315T113521Z
LAST-MODIFIED:20200315T113521Z
UID:14207-1584280800-1584291600@www.associationlisa.fr
SUMMARY:Randochiens
DESCRIPTION:Rendez-vous à 14h30 Château da la RUME (08)\nSur la route d’Issancourt et Rumel\, en venant de Ville-sur-Lumes \nPour une randonnée d’environ 7 km \nParticipation : minimum 3 euros \nChaussures de marche recommandées\, poussettes déconseillées\, chemins dans les bois… \nVenez vous balader avec votre chien\, en famille ou entre amis ! \nLe goûter est offert ! \nPlus d’infos au 03.24.41.74.51 \nTélécharger l’affiche\n(N’hésitez pas à la diffuser autour de vous !)
URL:https://www.associationlisa.fr/event/randochiens-5/
LOCATION:Château da la RUME\, Château da la RUME\, Sur la route d’Issancourt et Rumel\, en venant de Ville-sur-Lumes\, Ardennes\, 08000\, France
CATEGORIES:Randochiens
ATTACH;FMTTYPE=image/jpeg:https://www.associationlisa.fr/wp-content/uploads/2021/10/Site-internet-Articles-2020-15-mars-Randochiens.jpg
END:VEVENT
END:VCALENDAR