BEGIN:VCALENDAR
VERSION:2.0
PRODID:-//Association LISA - ECPv6.15.17//NONSGML v1.0//EN
CALSCALE:GREGORIAN
METHOD:PUBLISH
X-WR-CALNAME:Association LISA
X-ORIGINAL-URL:https://www.associationlisa.fr
X-WR-CALDESC:Évènements pour Association LISA
REFRESH-INTERVAL;VALUE=DURATION:PT1H
X-Robots-Tag:noindex
X-PUBLISHED-TTL:PT1H
BEGIN:VTIMEZONE
TZID:Europe/Paris
BEGIN:DAYLIGHT
TZOFFSETFROM:+0100
TZOFFSETTO:+0200
TZNAME:CEST
DTSTART:20250330T010000
END:DAYLIGHT
BEGIN:STANDARD
TZOFFSETFROM:+0200
TZOFFSETTO:+0100
TZNAME:CET
DTSTART:20251026T010000
END:STANDARD
BEGIN:DAYLIGHT
TZOFFSETFROM:+0100
TZOFFSETTO:+0200
TZNAME:CEST
DTSTART:20260329T010000
END:DAYLIGHT
BEGIN:STANDARD
TZOFFSETFROM:+0200
TZOFFSETTO:+0100
TZNAME:CET
DTSTART:20261025T010000
END:STANDARD
BEGIN:DAYLIGHT
TZOFFSETFROM:+0100
TZOFFSETTO:+0200
TZNAME:CEST
DTSTART:20270328T010000
END:DAYLIGHT
BEGIN:STANDARD
TZOFFSETFROM:+0200
TZOFFSETTO:+0100
TZNAME:CET
DTSTART:20271031T010000
END:STANDARD
END:VTIMEZONE
BEGIN:VEVENT
DTSTART;TZID=Europe/Paris:20260510T143000
DTEND;TZID=Europe/Paris:20260510T170000
DTSTAMP:20260421T134342
CREATED:20260414T160421Z
LAST-MODIFIED:20260414T160421Z
UID:16266-1778423400-1778432400@www.associationlisa.fr
SUMMARY:Canirando du mois de mai
DESCRIPTION:
URL:https://www.associationlisa.fr/event/canirando-du-mois-de-mai/
CATEGORIES:Cani'Rando
ORGANIZER;CN="Association LISA":MAILTO:contact@associationlisa.fr
END:VEVENT
BEGIN:VEVENT
DTSTART;TZID=Europe/Paris:20260606T103000
DTEND;TZID=Europe/Paris:20260606T180000
DTSTAMP:20260421T134342
CREATED:20260220T165903Z
LAST-MODIFIED:20260220T165903Z
UID:15993-1780741800-1780768800@www.associationlisa.fr
SUMMARY:Journée nature et adoption
DESCRIPTION:
URL:https://www.associationlisa.fr/event/journee-nature-et-adoption/
LOCATION:Association LISA\, 4 rue du bas des Aulnaies\, Vivier-au-court\, 08440\, France
CATEGORIES:Portes ouvertes
ORGANIZER;CN="Association LISA":MAILTO:contact@associationlisa.fr
END:VEVENT
BEGIN:VEVENT
DTSTART;TZID=Europe/Paris:20260612T183000
DTEND;TZID=Europe/Paris:20260612T213000
DTSTAMP:20260421T134342
CREATED:20260220T170045Z
LAST-MODIFIED:20260220T170045Z
UID:15995-1781289000-1781299800@www.associationlisa.fr
SUMMARY:Assemblée générale
DESCRIPTION:
URL:https://www.associationlisa.fr/event/assemblee-generale-4/
CATEGORIES:Assemblée Générale
ORGANIZER;CN="Association LISA":MAILTO:contact@associationlisa.fr
END:VEVENT
BEGIN:VEVENT
DTSTART;TZID=Europe/Paris:20260912T193000
DTEND;TZID=Europe/Paris:20260912T233000
DTSTAMP:20260421T134342
CREATED:20260220T170206Z
LAST-MODIFIED:20260220T170206Z
UID:15997-1789241400-1789255800@www.associationlisa.fr
SUMMARY:Repas dansant
DESCRIPTION:
URL:https://www.associationlisa.fr/event/repas-dansant/
LOCATION:La Vivaroise\, rue Jules Manil\, Vivier-au-court\, Ardennes\, 08440\, France
CATEGORIES:Repas Dansant
ORGANIZER;CN="Association LISA":MAILTO:contact@associationlisa.fr
END:VEVENT
BEGIN:VEVENT
DTSTART;TZID=Europe/Paris:20261205T100000
DTEND;TZID=Europe/Paris:20261205T173000
DTSTAMP:20260421T134342
CREATED:20260220T170546Z
LAST-MODIFIED:20260220T170546Z
UID:15999-1796464800-1796491800@www.associationlisa.fr
SUMMARY:Noël des animaux
DESCRIPTION:
URL:https://www.associationlisa.fr/event/noel-des-animaux-4/
LOCATION:Association LISA\, 4 rue du bas des Aulnaies\, Vivier-au-court\, 08440\, France
CATEGORIES:Noêl des animaux
ORGANIZER;CN="Association LISA":MAILTO:contact@associationlisa.fr
END:VEVENT
END:VCALENDAR