BEGIN:VCALENDAR
VERSION:2.0
PRODID:-//Association LISA - ECPv6.15.17//NONSGML v1.0//EN
CALSCALE:GREGORIAN
METHOD:PUBLISH
X-ORIGINAL-URL:https://www.associationlisa.fr
X-WR-CALDESC:Évènements pour Association LISA
REFRESH-INTERVAL;VALUE=DURATION:PT1H
X-Robots-Tag:noindex
X-PUBLISHED-TTL:PT1H
BEGIN:VTIMEZONE
TZID:Europe/Paris
BEGIN:DAYLIGHT
TZOFFSETFROM:+0100
TZOFFSETTO:+0200
TZNAME:CEST
DTSTART:20210328T010000
END:DAYLIGHT
BEGIN:STANDARD
TZOFFSETFROM:+0200
TZOFFSETTO:+0100
TZNAME:CET
DTSTART:20211031T010000
END:STANDARD
BEGIN:DAYLIGHT
TZOFFSETFROM:+0100
TZOFFSETTO:+0200
TZNAME:CEST
DTSTART:20220327T010000
END:DAYLIGHT
BEGIN:STANDARD
TZOFFSETFROM:+0200
TZOFFSETTO:+0100
TZNAME:CET
DTSTART:20221030T010000
END:STANDARD
BEGIN:DAYLIGHT
TZOFFSETFROM:+0100
TZOFFSETTO:+0200
TZNAME:CEST
DTSTART:20230326T010000
END:DAYLIGHT
BEGIN:STANDARD
TZOFFSETFROM:+0200
TZOFFSETTO:+0100
TZNAME:CET
DTSTART:20231029T010000
END:STANDARD
END:VTIMEZONE
BEGIN:VEVENT
DTSTART;VALUE=DATE:20220609
DTEND;VALUE=DATE:20220611
DTSTAMP:20260425T231302
CREATED:20220609T144803Z
LAST-MODIFIED:20220609T144803Z
UID:8451-1654732800-1654905599@www.associationlisa.fr
SUMMARY:Fermeture Exceptionnelle à 16h00 Vendredi 10 juin 20202
DESCRIPTION:Nos bureaux fermeront à 16h00 au lieu de 18h00 ce Vendredi 10 juin 2022. \nMerci de votre compréhension. \n  \nL’équipe de la LISA.
URL:https://www.associationlisa.fr/event/fermeture-exceptionnelle-a-16h00-vendredi-10-juin-20202/
ATTACH;FMTTYPE=image/jpeg:https://www.associationlisa.fr/wp-content/uploads/2022/06/Affiche-fermeture-100622-Site-Web-1190-×-690-px.jpg
END:VEVENT
BEGIN:VEVENT
DTSTART;VALUE=DATE:20220609
DTEND;VALUE=DATE:20220611
DTSTAMP:20260425T231302
CREATED:20220609T144803Z
LAST-MODIFIED:20220609T144803Z
UID:14181-1654732800-1654905599@www.associationlisa.fr
SUMMARY:Fermeture Exceptionnelle à 16h00 Vendredi 10 juin 20202
DESCRIPTION:Nos bureaux fermeront à 16h00 au lieu de 18h00 ce Vendredi 10 juin 2022. \nMerci de votre compréhension. \n  \nL’équipe de la LISA.
URL:https://www.associationlisa.fr/event/fermeture-exceptionnelle-a-16h00-vendredi-10-juin-20202-2/
ATTACH;FMTTYPE=image/jpeg:https://www.associationlisa.fr/wp-content/uploads/2022/06/Affiche-fermeture-100622-Site-Web-1190-×-690-px.jpg
END:VEVENT
BEGIN:VEVENT
DTSTART;VALUE=DATE:20220609
DTEND;VALUE=DATE:20220611
DTSTAMP:20260425T231302
CREATED:20220609T144803Z
LAST-MODIFIED:20220609T144803Z
UID:14218-1654732800-1654905599@www.associationlisa.fr
SUMMARY:Fermeture Exceptionnelle à 16h00 Vendredi 10 juin 20202
DESCRIPTION:Nos bureaux fermeront à 16h00 au lieu de 18h00 ce Vendredi 10 juin 2022. \nMerci de votre compréhension. \n  \nL’équipe de la LISA.
URL:https://www.associationlisa.fr/event/fermeture-exceptionnelle-a-16h00-vendredi-10-juin-20202-3/
ATTACH;FMTTYPE=image/jpeg:https://www.associationlisa.fr/wp-content/uploads/2022/06/Affiche-fermeture-100622-Site-Web-1190-×-690-px.jpg
END:VEVENT
BEGIN:VEVENT
DTSTART;TZID=Europe/Paris:20220612T100000
DTEND;TZID=Europe/Paris:20220612T180000
DTSTAMP:20260425T231302
CREATED:20220126T170846Z
LAST-MODIFIED:20220126T170846Z
UID:7468-1655028000-1655056800@www.associationlisa.fr
SUMMARY:Lisa Nature
DESCRIPTION:L’association LISA organise une journée “Lisa Nature” le dimanche 12 juin 2022 ! ☘ \nVenez découvrir nos nombreuses activités : dégustation de miel et jus de fruit\, atelier jeux pour enfants\, spectacle de dressage\, atelier photos… \nNous vous attendons nombreux ! 😄 \n  \n 
URL:https://www.associationlisa.fr/event/lisa-nature/
LOCATION:Albatros\, 60 rue des vieux près\, Montcornet\, 08090\, France
CATEGORIES:Journée découverte
ATTACH;FMTTYPE=image/jpeg:https://www.associationlisa.fr/wp-content/uploads/2022/01/Lisa-Nature-2022.jpg
ORGANIZER;CN="Association LISA":MAILTO:contact@associationlisa.fr
END:VEVENT
BEGIN:VEVENT
DTSTART;TZID=Europe/Paris:20220612T100000
DTEND;TZID=Europe/Paris:20220612T180000
DTSTAMP:20260425T231302
CREATED:20220126T170846Z
LAST-MODIFIED:20220126T170846Z
UID:14177-1655028000-1655056800@www.associationlisa.fr
SUMMARY:Lisa Nature
DESCRIPTION:L’association LISA organise une journée “Lisa Nature” le dimanche 12 juin 2022 ! ☘ \nVenez découvrir nos nombreuses activités : dégustation de miel et jus de fruit\, atelier jeux pour enfants\, spectacle de dressage\, atelier photos… \nNous vous attendons nombreux ! 😄 \n  \n 
URL:https://www.associationlisa.fr/event/lisa-nature-2/
LOCATION:Albatros\, 60 rue des vieux près\, Montcornet\, 08090\, France
CATEGORIES:Journée découverte
ATTACH;FMTTYPE=image/jpeg:https://www.associationlisa.fr/wp-content/uploads/2022/01/Lisa-Nature-2022.jpg
ORGANIZER;CN="Association LISA":MAILTO:contact@associationlisa.fr
END:VEVENT
BEGIN:VEVENT
DTSTART;TZID=Europe/Paris:20220612T100000
DTEND;TZID=Europe/Paris:20220612T180000
DTSTAMP:20260425T231302
CREATED:20220126T170846Z
LAST-MODIFIED:20220126T170846Z
UID:14214-1655028000-1655056800@www.associationlisa.fr
SUMMARY:Lisa Nature
DESCRIPTION:L’association LISA organise une journée “Lisa Nature” le dimanche 12 juin 2022 ! ☘ \nVenez découvrir nos nombreuses activités : dégustation de miel et jus de fruit\, atelier jeux pour enfants\, spectacle de dressage\, atelier photos… \nNous vous attendons nombreux ! 😄 \n  \n 
URL:https://www.associationlisa.fr/event/lisa-nature-3/
LOCATION:Albatros\, 60 rue des vieux près\, Montcornet\, 08090\, France
CATEGORIES:Journée découverte
ATTACH;FMTTYPE=image/jpeg:https://www.associationlisa.fr/wp-content/uploads/2022/01/Lisa-Nature-2022.jpg
ORGANIZER;CN="Association LISA":MAILTO:contact@associationlisa.fr
END:VEVENT
END:VCALENDAR