BEGIN:VCALENDAR
VERSION:2.0
PRODID:-//Association LISA - ECPv6.15.17//NONSGML v1.0//EN
CALSCALE:GREGORIAN
METHOD:PUBLISH
X-ORIGINAL-URL:https://www.associationlisa.fr
X-WR-CALDESC:Évènements pour Association LISA
REFRESH-INTERVAL;VALUE=DURATION:PT1H
X-Robots-Tag:noindex
X-PUBLISHED-TTL:PT1H
BEGIN:VTIMEZONE
TZID:Europe/Paris
BEGIN:DAYLIGHT
TZOFFSETFROM:+0100
TZOFFSETTO:+0200
TZNAME:CEST
DTSTART:20230326T010000
END:DAYLIGHT
BEGIN:STANDARD
TZOFFSETFROM:+0200
TZOFFSETTO:+0100
TZNAME:CET
DTSTART:20231029T010000
END:STANDARD
BEGIN:DAYLIGHT
TZOFFSETFROM:+0100
TZOFFSETTO:+0200
TZNAME:CEST
DTSTART:20240331T010000
END:DAYLIGHT
BEGIN:STANDARD
TZOFFSETFROM:+0200
TZOFFSETTO:+0100
TZNAME:CET
DTSTART:20241027T010000
END:STANDARD
BEGIN:DAYLIGHT
TZOFFSETFROM:+0100
TZOFFSETTO:+0200
TZNAME:CEST
DTSTART:20250330T010000
END:DAYLIGHT
BEGIN:STANDARD
TZOFFSETFROM:+0200
TZOFFSETTO:+0100
TZNAME:CET
DTSTART:20251026T010000
END:STANDARD
END:VTIMEZONE
BEGIN:VEVENT
DTSTART;TZID=Europe/Paris:20240801T080000
DTEND;TZID=Europe/Paris:20240902T080000
DTSTAMP:20260422T115110
CREATED:20240716T123103Z
LAST-MODIFIED:20240910T101512Z
UID:14235-1722499200-1725264000@www.associationlisa.fr
SUMMARY:Congés annuels
DESCRIPTION: Bonjour ! Nous vous informons que nous 𝗳𝗲𝗿𝗺𝗼𝗻𝘀 𝗻𝗼𝘀 𝗹𝗼𝗰𝗮𝘂𝘅 𝗮𝘂 𝗽𝘂𝗯𝗹𝗶𝗰 du 𝟭𝗲𝗿 𝗮𝗼𝘂𝘁 au 𝟯𝟬 𝗮𝗼𝘂𝘁 𝟮𝟬𝟮𝟰. La 𝗿é𝗼𝘂𝘃𝗲𝗿𝘁𝘂𝗿𝗲 sera le 𝟮 𝘀𝗲𝗽𝘁𝗲𝗺𝗯𝗿𝗲 𝟮𝟬𝟮𝟰. Les 𝗮𝗱𝗼𝗽𝘁𝗶𝗼𝗻𝘀 continuent 𝘀𝘂𝗿 𝗿𝗲𝗻𝗱𝗲𝘇-𝘃𝗼𝘂𝘀\, pour toute 𝘂𝗿𝗴𝗲𝗻𝗰𝗲 : il faudra nous 𝗹𝗮𝗶𝘀𝘀𝗲𝗿 𝘂𝗻 𝗺𝗲𝘀𝘀𝗮𝗴𝗲 𝘃𝗼𝗰𝗮𝗹 sur notre répondeur\, nous vous rappellerons dans les plus brefs délais !
URL:https://www.associationlisa.fr/event/conges-annuels/
LOCATION:La Toutounière\, Zac du Boitron\, Vivier-au-court\, 08440\, France
CATEGORIES:Congés annuels
END:VEVENT
BEGIN:VEVENT
DTSTART;TZID=Europe/Paris:20240803T133000
DTEND;TZID=Europe/Paris:20240803T170000
DTSTAMP:20260422T115110
CREATED:20240712T115815Z
LAST-MODIFIED:20240910T102448Z
UID:14238-1722691800-1722704400@www.associationlisa.fr
SUMMARY:Journée adoption du mois d'août
DESCRIPTION:Tout les premiers samedi du mois\, la LISA organisera une journée portes ouvertes. C’est l’occasion rêvé pour les personnes souhaitant adopter un loulou en refuge mais qui ne sont pas disponible la semaine !!
URL:https://www.associationlisa.fr/event/journee-adoption-du-mois-daout/
LOCATION:La Toutounière\, Zac du Boitron\, Vivier-au-court\, 08440\, France
CATEGORIES:Journée adoption
END:VEVENT
END:VCALENDAR